Package: soGGi Version: 1.42.0 Command: /home/biocbuild/bbs-3.22-bioc/R/bin/R CMD check --install=check:soGGi.install-out.txt --library=/home/biocbuild/bbs-3.22-bioc/R/site-library --timings soGGi_1.42.0.tar.gz StartedAt: 2025-11-18 08:44:32 -0500 (Tue, 18 Nov 2025) EndedAt: 2025-11-18 08:49:57 -0500 (Tue, 18 Nov 2025) EllapsedTime: 325.3 seconds RetCode: 1 Status: ERROR CheckDir: soGGi.Rcheck Warnings: NA