Package: soGGi Version: 1.42.0 Command: /Library/Frameworks/R.framework/Resources/bin/R CMD INSTALL soGGi StartedAt: 2025-11-03 15:50:53 -0500 (Mon, 03 Nov 2025) EndedAt: 2025-11-03 15:51:51 -0500 (Mon, 03 Nov 2025) EllapsedTime: 58.2 seconds RetCode: 0 Status: OK