Package: soGGi Version: 1.42.0 Command: /Library/Frameworks/R.framework/Resources/bin/R CMD build --keep-empty-dirs --no-resave-data soGGi StartedAt: 2025-11-03 18:52:07 -0500 (Mon, 03 Nov 2025) EndedAt: 2025-11-03 18:53:41 -0500 (Mon, 03 Nov 2025) EllapsedTime: 93.7 seconds RetCode: 0 Status: OK PackageFile: soGGi_1.42.0.tar.gz PackageFileSize: 3.318 MiB