Package: soGGi Version: 1.40.1 Command: /home/biocbuild/R/R/bin/R CMD INSTALL soGGi StartedAt: 2025-10-13 21:11:43 -0000 (Mon, 13 Oct 2025) EndedAt: 2025-10-13 21:12:46 -0000 (Mon, 13 Oct 2025) EllapsedTime: 62.3 seconds RetCode: 0 Status: OK