Package: soGGi Version: 1.40.1 Command: /home/biocbuild/R/R/bin/R CMD build --keep-empty-dirs --no-resave-data soGGi StartedAt: 2025-10-14 04:51:33 -0000 (Tue, 14 Oct 2025) EndedAt: 2025-10-14 04:53:27 -0000 (Tue, 14 Oct 2025) EllapsedTime: 114.1 seconds RetCode: 0 Status: OK PackageFile: soGGi_1.40.1.tar.gz PackageFileSize: 3.311 MiB