Package: snpStats Version: 1.60.0 Command: /home/biocbuild/bbs-3.22-bioc/R/bin/R CMD build --keep-empty-dirs --no-resave-data --md5 snpStats StartedAt: 2025-11-11 20:19:39 -0500 (Tue, 11 Nov 2025) EndedAt: 2025-11-11 20:20:42 -0500 (Tue, 11 Nov 2025) EllapsedTime: 63.1 seconds RetCode: 0 Status: OK PackageFile: snpStats_1.60.0.tar.gz PackageFileSize: 7.737 MiB