Package: snm Version: 1.58.0 Command: /Library/Frameworks/R.framework/Resources/bin/R CMD INSTALL snm StartedAt: 2025-11-03 15:13:08 -0500 (Mon, 03 Nov 2025) EndedAt: 2025-11-03 15:14:15 -0500 (Mon, 03 Nov 2025) EllapsedTime: 66.7 seconds RetCode: 0 Status: OK