Package: snm Version: 1.58.0 Command: /Library/Frameworks/R.framework/Resources/bin/R CMD build --keep-empty-dirs --no-resave-data snm StartedAt: 2025-11-03 18:51:41 -0500 (Mon, 03 Nov 2025) EndedAt: 2025-11-03 18:53:35 -0500 (Mon, 03 Nov 2025) EllapsedTime: 114.3 seconds RetCode: 0 Status: OK PackageFile: snm_1.58.0.tar.gz PackageFileSize: 726.4 KiB