Package: snm Version: 1.56.0 Command: /home/biocbuild/R/R/bin/R CMD INSTALL snm StartedAt: 2025-10-13 20:17:04 -0000 (Mon, 13 Oct 2025) EndedAt: 2025-10-13 20:17:46 -0000 (Mon, 13 Oct 2025) EllapsedTime: 42.8 seconds RetCode: 0 Status: OK