Package: snapcount Version: 1.22.0 Command: /home/biocbuild/bbs-3.22-bioc/R/bin/R CMD build --keep-empty-dirs --no-resave-data --md5 snapcount StartedAt: 2025-11-11 20:18:52 -0500 (Tue, 11 Nov 2025) EndedAt: 2025-11-11 20:20:23 -0500 (Tue, 11 Nov 2025) EllapsedTime: 91.1 seconds RetCode: 0 Status: OK PackageFile: snapcount_1.22.0.tar.gz PackageFileSize: 515.9 KiB