Package: snapcount Version: 1.22.0 Command: /Library/Frameworks/R.framework/Resources/bin/R CMD INSTALL snapcount StartedAt: 2025-11-10 15:16:04 -0500 (Mon, 10 Nov 2025) EndedAt: 2025-11-10 15:16:16 -0500 (Mon, 10 Nov 2025) EllapsedTime: 12.1 seconds RetCode: 0 Status: OK