Package: snapcount Version: 1.22.0 Command: /Library/Frameworks/R.framework/Resources/bin/R CMD build --keep-empty-dirs --no-resave-data snapcount StartedAt: 2025-11-10 17:48:29 -0500 (Mon, 10 Nov 2025) EndedAt: 2025-11-10 17:49:41 -0500 (Mon, 10 Nov 2025) EllapsedTime: 71.7 seconds RetCode: 0 Status: OK PackageFile: snapcount_1.22.0.tar.gz PackageFileSize: 514 KiB