Package: smoppix Version: 1.2.0 Command: /home/biocbuild/bbs-3.22-bioc/R/bin/R CMD INSTALL smoppix StartedAt: 2025-11-13 15:25:35 -0500 (Thu, 13 Nov 2025) EndedAt: 2025-11-13 15:26:24 -0500 (Thu, 13 Nov 2025) EllapsedTime: 48.6 seconds RetCode: 0 Status: OK