Package: smoppix Version: 1.2.0 Command: /home/biocbuild/bbs-3.22-bioc/R/bin/R CMD check --install=check:smoppix.install-out.txt --library=/home/biocbuild/bbs-3.22-bioc/R/site-library --timings smoppix_1.2.0.tar.gz StartedAt: 2025-11-17 04:22:55 -0500 (Mon, 17 Nov 2025) EndedAt: 2025-11-17 04:32:22 -0500 (Mon, 17 Nov 2025) EllapsedTime: 566.5 seconds RetCode: 0 Status: OK CheckDir: smoppix.Rcheck Warnings: 0