Package: smoppix Version: 1.2.0 Command: /Library/Frameworks/R.framework/Resources/bin/R CMD build --keep-empty-dirs --no-resave-data smoppix StartedAt: 2025-11-03 18:51:31 -0500 (Mon, 03 Nov 2025) EndedAt: 2025-11-03 18:56:46 -0500 (Mon, 03 Nov 2025) EllapsedTime: 315.3 seconds RetCode: 0 Status: OK PackageFile: smoppix_1.2.0.tar.gz PackageFileSize: 5.496 MiB