Package: smoppix Version: 1.2.0 Command: /Library/Frameworks/R.framework/Resources/bin/R CMD INSTALL smoppix StartedAt: 2025-11-20 17:24:24 -0500 (Thu, 20 Nov 2025) EndedAt: 2025-11-20 17:25:18 -0500 (Thu, 20 Nov 2025) EllapsedTime: 54.0 seconds RetCode: 0 Status: OK