Package: smoppix Version: 1.2.0 Command: /Library/Frameworks/R.framework/Resources/bin/R CMD build --keep-empty-dirs --no-resave-data smoppix StartedAt: 2025-11-21 10:33:04 -0500 (Fri, 21 Nov 2025) EndedAt: 2025-11-21 10:36:55 -0500 (Fri, 21 Nov 2025) EllapsedTime: 231.8 seconds RetCode: 1 Status: ERROR PackageFile: None PackageFileSize: NA