Package: smoothclust Version: 1.6.0 Command: /home/biocbuild/R/R/bin/R CMD INSTALL smoothclust StartedAt: 2025-11-10 21:32:22 -0000 (Mon, 10 Nov 2025) EndedAt: 2025-11-10 21:32:51 -0000 (Mon, 10 Nov 2025) EllapsedTime: 29.6 seconds RetCode: 0 Status: OK