Package: smoothclust Version: 1.6.0 Command: /home/biocbuild/R/R/bin/R CMD build --keep-empty-dirs --no-resave-data smoothclust StartedAt: 2025-11-11 05:17:37 -0000 (Tue, 11 Nov 2025) EndedAt: 2025-11-11 05:19:06 -0000 (Tue, 11 Nov 2025) EllapsedTime: 89.0 seconds RetCode: 0 Status: OK PackageFile: smoothclust_1.6.0.tar.gz PackageFileSize: 397 KiB