Package: smoothclust Version: 1.4.0 Command: rm -rf smoothclust.buildbin-libdir && mkdir smoothclust.buildbin-libdir && E:\biocbuild\bbs-3.21-bioc\R\bin\R.exe CMD INSTALL --build --library=smoothclust.buildbin-libdir smoothclust_1.4.0.tar.gz StartedAt: 2025-08-15 10:21:02 -0400 (Fri, 15 Aug 2025) EndedAt: 2025-08-15 10:21:39 -0400 (Fri, 15 Aug 2025) EllapsedTime: 36.6 seconds RetCode: 0 Status: OK PackageFile: smoothclust_1.4.0.zip PackageFileSize: 343.9 KiB