Package: smoothclust Version: 1.6.0 Command: /home/biocbuild/bbs-3.22-bioc/R/bin/R CMD check --install=check:smoothclust.install-out.txt --library=/home/biocbuild/bbs-3.22-bioc/R/site-library --timings smoothclust_1.6.0.tar.gz StartedAt: 2025-11-12 04:18:35 -0500 (Wed, 12 Nov 2025) EndedAt: 2025-11-12 04:23:38 -0500 (Wed, 12 Nov 2025) EllapsedTime: 303.2 seconds RetCode: 0 Status: OK CheckDir: smoothclust.Rcheck Warnings: 0