Package: smartid Version: 1.6.0 Command: /home/biocbuild/bbs-3.22-bioc/R/bin/R CMD build --keep-empty-dirs --no-resave-data --md5 smartid StartedAt: 2025-11-11 20:18:23 -0500 (Tue, 11 Nov 2025) EndedAt: 2025-11-11 20:19:28 -0500 (Tue, 11 Nov 2025) EllapsedTime: 65.0 seconds RetCode: 0 Status: OK PackageFile: smartid_1.6.0.tar.gz PackageFileSize: 2.095 MiB