Package: smartid Version: 1.6.0 Command: /Library/Frameworks/R.framework/Resources/bin/R CMD build --keep-empty-dirs --no-resave-data smartid StartedAt: 2025-11-10 17:48:01 -0500 (Mon, 10 Nov 2025) EndedAt: 2025-11-10 17:48:29 -0500 (Mon, 10 Nov 2025) EllapsedTime: 28.3 seconds RetCode: 0 Status: OK PackageFile: smartid_1.6.0.tar.gz PackageFileSize: 2.015 MiB