Package: slingshot Version: 2.18.0 Command: /home/biocbuild/bbs-3.22-bioc/R/bin/R CMD INSTALL slingshot StartedAt: 2025-11-25 15:50:47 -0500 (Tue, 25 Nov 2025) EndedAt: 2025-11-25 15:51:13 -0500 (Tue, 25 Nov 2025) EllapsedTime: 26.5 seconds RetCode: 0 Status: OK