Package: slalom Version: 1.32.0 Command: /home/biocbuild/bbs-3.22-bioc/R/bin/R CMD INSTALL slalom StartedAt: 2025-11-13 15:30:58 -0500 (Thu, 13 Nov 2025) EndedAt: 2025-11-13 15:31:54 -0500 (Thu, 13 Nov 2025) EllapsedTime: 56.1 seconds RetCode: 0 Status: OK