Package: slalom Version: 1.32.0 Command: /home/biocbuild/bbs-3.22-bioc/R/bin/R CMD build --keep-empty-dirs --no-resave-data --md5 slalom StartedAt: 2025-11-13 20:16:24 -0500 (Thu, 13 Nov 2025) EndedAt: 2025-11-13 20:17:56 -0500 (Thu, 13 Nov 2025) EllapsedTime: 92.1 seconds RetCode: 0 Status: OK PackageFile: slalom_1.32.0.tar.gz PackageFileSize: 17.59 MiB