Package: skewr Version: 1.42.0 Command: /home/biocbuild/bbs-3.22-bioc/R/bin/R CMD build --keep-empty-dirs --no-resave-data --md5 skewr StartedAt: 2025-11-13 20:16:08 -0500 (Thu, 13 Nov 2025) EndedAt: 2025-11-13 20:18:17 -0500 (Thu, 13 Nov 2025) EllapsedTime: 129.1 seconds RetCode: 0 Status: OK PackageFile: skewr_1.42.0.tar.gz PackageFileSize: 953.2 KiB