Package: sketchR Version: 1.6.0 Command: /home/biocbuild/R/R/bin/R CMD INSTALL sketchR StartedAt: 2025-11-10 21:22:33 -0000 (Mon, 10 Nov 2025) EndedAt: 2025-11-10 21:22:53 -0000 (Mon, 10 Nov 2025) EllapsedTime: 20.1 seconds RetCode: 0 Status: OK