Package: sketchR Version: 1.6.0 Command: /home/biocbuild/R/R/bin/R CMD build --keep-empty-dirs --no-resave-data sketchR StartedAt: 2025-11-14 05:28:26 -0000 (Fri, 14 Nov 2025) EndedAt: 2025-11-14 05:32:58 -0000 (Fri, 14 Nov 2025) EllapsedTime: 271.3 seconds RetCode: 0 Status: OK PackageFile: sketchR_1.6.0.tar.gz PackageFileSize: 1.224 MiB