Package: sketchR Version: 1.4.0 Command: chmod a+r sketchR -R && E:\biocbuild\bbs-3.21-bioc\R\bin\R.exe --arch x64 CMD build --keep-empty-dirs --no-resave-data sketchR StartedAt: 2025-08-14 22:19:26 -0400 (Thu, 14 Aug 2025) EndedAt: 2025-08-14 22:24:54 -0400 (Thu, 14 Aug 2025) EllapsedTime: 327.4 seconds RetCode: 0 Status: OK PackageFile: sketchR_1.4.0.tar.gz PackageFileSize: 605.9 KiB