Package: sketchR Version: 1.4.0 Command: rm -rf sketchR.buildbin-libdir && mkdir sketchR.buildbin-libdir && E:\biocbuild\bbs-3.21-bioc\R\bin\R.exe CMD INSTALL --build --library=sketchR.buildbin-libdir sketchR_1.4.0.tar.gz StartedAt: 2025-08-15 10:20:29 -0400 (Fri, 15 Aug 2025) EndedAt: 2025-08-15 10:20:55 -0400 (Fri, 15 Aug 2025) EllapsedTime: 26.2 seconds RetCode: 0 Status: OK PackageFile: sketchR_1.4.0.zip PackageFileSize: 636.6 KiB