Package: sketchR Version: 1.6.0 Command: /home/biocbuild/bbs-3.22-bioc/R/bin/R CMD INSTALL sketchR StartedAt: 2025-11-13 15:15:59 -0500 (Thu, 13 Nov 2025) EndedAt: 2025-11-13 15:16:14 -0500 (Thu, 13 Nov 2025) EllapsedTime: 14.7 seconds RetCode: 0 Status: OK