Package: sketchR Version: 1.6.0 Command: /home/biocbuild/bbs-3.22-bioc/R/bin/R CMD build --keep-empty-dirs --no-resave-data --md5 sketchR StartedAt: 2025-11-13 20:16:05 -0500 (Thu, 13 Nov 2025) EndedAt: 2025-11-13 20:19:28 -0500 (Thu, 13 Nov 2025) EllapsedTime: 203.2 seconds RetCode: 0 Status: OK PackageFile: sketchR_1.6.0.tar.gz PackageFileSize: 2.284 MiB