Package: sketchR Version: 1.4.0 Maintainer: Charlotte Soneson MaintainerEmail: charlottesoneson at gmail.com git_url: https://git.bioconductor.org/packages/sketchR git_branch: RELEASE_3_21 git_last_commit: 04d2eca git_last_commit_date: 2025-04-15 13:29:20 -0400 (Tue, 15 Apr 2025)