Package: sizepower Version: 1.80.0 Command: /home/biocbuild/bbs-3.22-bioc/R/bin/R CMD build --keep-empty-dirs --no-resave-data --md5 sizepower StartedAt: 2025-11-05 20:17:54 -0500 (Wed, 05 Nov 2025) EndedAt: 2025-11-05 20:17:59 -0500 (Wed, 05 Nov 2025) EllapsedTime: 5.0 seconds RetCode: 0 Status: OK PackageFile: sizepower_1.80.0.tar.gz PackageFileSize: 296.2 KiB