Package: sitePath Version: 1.26.0 Command: /home/biocbuild/bbs-3.22-bioc/R/bin/R CMD build --keep-empty-dirs --no-resave-data --md5 sitePath StartedAt: 2025-11-11 20:17:38 -0500 (Tue, 11 Nov 2025) EndedAt: 2025-11-11 20:18:40 -0500 (Tue, 11 Nov 2025) EllapsedTime: 62.1 seconds RetCode: 0 Status: OK PackageFile: sitePath_1.26.0.tar.gz PackageFileSize: 1.22 MiB