Package: sitePath Version: 1.26.0 Command: rm -rf sitePath.buildbin-libdir && mkdir sitePath.buildbin-libdir && /Users/biocbuild/BBS/utils/build-universal.sh sitePath_1.26.0.tar.gz /Library/Frameworks/R.framework/Resources/bin/R sitePath.buildbin-libdir StartedAt: 2025-11-04 02:05:11 -0500 (Tue, 04 Nov 2025) EndedAt: 2025-11-04 02:05:59 -0500 (Tue, 04 Nov 2025) EllapsedTime: 47.1 seconds RetCode: 0 Status: OK PackageFile: sitePath_1.26.0.tgz PackageFileSize: 1.493 MiB