Package: sitePath Version: 1.24.1 Command: /home/biocbuild/R/R/bin/R CMD INSTALL sitePath StartedAt: 2025-10-09 20:22:26 -0000 (Thu, 09 Oct 2025) EndedAt: 2025-10-09 20:23:27 -0000 (Thu, 09 Oct 2025) EllapsedTime: 60.9 seconds RetCode: 0 Status: OK