Package: sitePath Version: 1.24.1 Command: /home/biocbuild/R/R/bin/R CMD build --keep-empty-dirs --no-resave-data sitePath StartedAt: 2025-10-10 04:43:42 -0000 (Fri, 10 Oct 2025) EndedAt: 2025-10-10 04:45:14 -0000 (Fri, 10 Oct 2025) EllapsedTime: 92.1 seconds RetCode: 0 Status: OK PackageFile: sitePath_1.24.1.tar.gz PackageFileSize: 1.178 MiB