Package: sitePath Version: 1.24.0 Command: /Library/Frameworks/R.framework/Resources/bin/R CMD INSTALL sitePath StartedAt: 2025-04-21 15:05:37 -0400 (Mon, 21 Apr 2025) EndedAt: 2025-04-21 15:05:51 -0400 (Mon, 21 Apr 2025) EllapsedTime: 14.3 seconds RetCode: 0 Status: OK