Package: sitePath Version: 1.24.0 Command: /Library/Frameworks/R.framework/Resources/bin/R CMD build --keep-empty-dirs --no-resave-data sitePath StartedAt: 2025-04-21 17:41:51 -0400 (Mon, 21 Apr 2025) EndedAt: 2025-04-21 17:42:13 -0400 (Mon, 21 Apr 2025) EllapsedTime: 22.3 seconds RetCode: 0 Status: OK PackageFile: sitePath_1.24.0.tar.gz PackageFileSize: 1.242 MiB