Package: sitePath Version: 1.24.0 Command: rm -rf sitePath.buildbin-libdir && mkdir sitePath.buildbin-libdir && /Users/biocbuild/BBS/utils/build-universal.sh sitePath_1.24.0.tar.gz /Library/Frameworks/R.framework/Resources/bin/R sitePath.buildbin-libdir StartedAt: 2025-04-21 22:53:03 -0400 (Mon, 21 Apr 2025) EndedAt: 2025-04-21 22:53:15 -0400 (Mon, 21 Apr 2025) EllapsedTime: 12.3 seconds RetCode: 0 Status: OK PackageFile: sitePath_1.24.0.tgz PackageFileSize: 1.488 MiB