Package: sitadela Version: 1.18.0 Command: /home/biocbuild/bbs-3.22-bioc/R/bin/R CMD INSTALL sitadela StartedAt: 2025-11-17 17:59:58 -0500 (Mon, 17 Nov 2025) EndedAt: 2025-11-17 18:00:41 -0500 (Mon, 17 Nov 2025) EllapsedTime: 43.6 seconds RetCode: 0 Status: OK