Package: sitadela Version: 1.18.0 Command: /home/biocbuild/bbs-3.22-bioc/R/bin/R CMD build --keep-empty-dirs --no-resave-data --md5 sitadela StartedAt: 2025-11-17 23:34:24 -0500 (Mon, 17 Nov 2025) EndedAt: 2025-11-17 23:40:36 -0500 (Mon, 17 Nov 2025) EllapsedTime: 372.3 seconds RetCode: 0 Status: OK PackageFile: sitadela_1.18.0.tar.gz PackageFileSize: 486.8 KiB