Package: singscore Version: 1.30.0 Command: /home/biocbuild/bbs-3.22-bioc/R/bin/R CMD build --keep-empty-dirs --no-resave-data --md5 singscore StartedAt: 2025-11-11 20:17:04 -0500 (Tue, 11 Nov 2025) EndedAt: 2025-11-11 20:18:09 -0500 (Tue, 11 Nov 2025) EllapsedTime: 65.0 seconds RetCode: 0 Status: OK PackageFile: singscore_1.30.0.tar.gz PackageFileSize: 2.984 MiB