Package: singleCellTK Version: 2.20.0 Command: /home/biocbuild/bbs-3.22-bioc/R/bin/R CMD INSTALL singleCellTK StartedAt: 2025-11-11 16:02:20 -0500 (Tue, 11 Nov 2025) EndedAt: 2025-11-11 16:03:05 -0500 (Tue, 11 Nov 2025) EllapsedTime: 45.0 seconds RetCode: 0 Status: OK