Package: singleCellTK Version: 2.20.0 Command: /Library/Frameworks/R.framework/Resources/bin/R CMD INSTALL singleCellTK StartedAt: 2025-11-03 15:55:28 -0500 (Mon, 03 Nov 2025) EndedAt: 2025-11-03 15:56:26 -0500 (Mon, 03 Nov 2025) EllapsedTime: 58.3 seconds RetCode: 0 Status: OK