Package: singleCellTK Version: 2.20.0 Command: rm -rf singleCellTK.buildbin-libdir && mkdir singleCellTK.buildbin-libdir && /Users/biocbuild/BBS/utils/build-universal.sh singleCellTK_2.20.0.tar.gz /Library/Frameworks/R.framework/Resources/bin/R singleCellTK.buildbin-libdir StartedAt: 2025-11-04 02:05:03 -0500 (Tue, 04 Nov 2025) EndedAt: 2025-11-04 02:06:10 -0500 (Tue, 04 Nov 2025) EllapsedTime: 66.8 seconds RetCode: 0 Status: OK PackageFile: singleCellTK_2.20.0.tgz PackageFileSize: 4.601 MiB