Package: sincell Version: 1.40.0 Command: /home/biocbuild/R/R/bin/R CMD INSTALL sincell StartedAt: 2025-10-13 20:18:37 -0000 (Mon, 13 Oct 2025) EndedAt: 2025-10-13 20:19:39 -0000 (Mon, 13 Oct 2025) EllapsedTime: 61.6 seconds RetCode: 0 Status: OK