Package: sincell Version: 1.40.0 Command: /home/biocbuild/R/R/bin/R CMD build --keep-empty-dirs --no-resave-data sincell StartedAt: 2025-10-14 04:46:00 -0000 (Tue, 14 Oct 2025) EndedAt: 2025-10-14 04:50:51 -0000 (Tue, 14 Oct 2025) EllapsedTime: 291.2 seconds RetCode: 0 Status: OK PackageFile: sincell_1.40.0.tar.gz PackageFileSize: 1.152 MiB